BEGIN:VCALENDAR
VERSION:2.0
PRODID:icalendar-ruby
CALSCALE:GREGORIAN
METHOD:PUBLISH
BEGIN:VEVENT
DTSTAMP:20260422T085338Z
UID:5-451438@southchurch.us
DTSTART:20260906T143000Z
DTEND:20260906T153000Z
CLASS:PUBLIC
CREATED:20260421T213344
DESCRIPTION:Sunday Worship
LAST-MODIFIED:20260421T213344
LOCATION:
SUMMARY:Sunday Worship
URL;VALUE=URI:https://www.southchurch.us/events/sunday-worship/2026-09-06
END:VEVENT
END:VCALENDAR
