BEGIN:VCALENDAR
VERSION:2.0
PRODID:icalendar-ruby
CALSCALE:GREGORIAN
METHOD:PUBLISH
BEGIN:VEVENT
DTSTAMP:20260422T102837Z
UID:5-451439@southchurch.us
DTSTART:20260913T143000Z
DTEND:20260913T153000Z
CLASS:PUBLIC
CREATED:20260421T213344
DESCRIPTION:Sunday Worship
LAST-MODIFIED:20260421T213344
LOCATION:
SUMMARY:Sunday Worship
URL;VALUE=URI:https://www.southchurch.us/events/sunday-worship/2026-09-13
END:VEVENT
END:VCALENDAR
