BEGIN:VCALENDAR
VERSION:2.0
PRODID:icalendar-ruby
CALSCALE:GREGORIAN
METHOD:PUBLISH
BEGIN:VEVENT
DTSTAMP:20260422T190531Z
UID:5-452431@southchurch.us
DTSTART:20261018T143000Z
DTEND:20261018T153000Z
CLASS:PUBLIC
CREATED:20260422T143145
DESCRIPTION:Sunday Worship
LAST-MODIFIED:20260422T143145
LOCATION:
SUMMARY:Sunday Worship
URL;VALUE=URI:https://www.southchurch.us/events/sunday-worship/2026-10-18
END:VEVENT
END:VCALENDAR
