BEGIN:VCALENDAR
VERSION:2.0
PRODID:icalendar-ruby
CALSCALE:GREGORIAN
METHOD:PUBLISH
BEGIN:VEVENT
DTSTAMP:20260422T222104Z
UID:5-452762@southchurch.us
DTSTART:20261101T153000Z
DTEND:20261101T163000Z
CLASS:PUBLIC
CREATED:20260422T172708
DESCRIPTION:Sunday Worship
LAST-MODIFIED:20260422T172708
LOCATION:
SUMMARY:Sunday Worship
URL;VALUE=URI:https://www.southchurch.us/events/sunday-worship/2026-11-01
END:VEVENT
END:VCALENDAR
